BEGIN:VCALENDAR
VERSION:2.0
PRODID:-//213.186.33.4//NONSGML kigkonsult.se iCalcreator 2.20//
CALSCALE:GREGORIAN
METHOD:PUBLISH
X-WR-TIMEZONE:Europe/Paris
BEGIN:VEVENT
UID:event1008@GUMS Paris
DTSTAMP:20260421T070437Z
CATEGORIES:Ski de Rando
DESCRIPTION:Car-couchettes Valloire\nCatégorie: Ski de Rando\nLien: https:/
 /www.gumsparis.asso.fr/index.php?option=com_jem&view=event&id=1008:car-cou
 chette-256\n
DTSTART;VALUE=DATE:20250308
DTEND;VALUE=DATE:20250310
SUMMARY:Car-couchettes Valloire
URL:https://www.gumsparis.asso.fr/index.php?option=com_jem&view=event&id=10
 08:car-couchette-256
END:VEVENT
END:VCALENDAR
