BEGIN:VCALENDAR
VERSION:2.0
PRODID:-//213.186.33.4//NONSGML kigkonsult.se iCalcreator 2.20//
CALSCALE:GREGORIAN
METHOD:PUBLISH
X-WR-TIMEZONE:Europe/Paris
BEGIN:VEVENT
UID:event1009@GUMS Paris
DTSTAMP:20260421T071229Z
CATEGORIES:Ski de Rando
DESCRIPTION:Car-couchettes Airolo\nCatégorie: Ski de Rando\nLien: https://w
 ww.gumsparis.asso.fr/index.php?option=com_jem&view=event&id=1009:car-couch
 ette-257\n
DTSTART;VALUE=DATE:20250315
DTEND;VALUE=DATE:20250317
SUMMARY:Car-couchettes Airolo
URL:https://www.gumsparis.asso.fr/index.php?option=com_jem&view=event&id=10
 09:car-couchette-257
END:VEVENT
END:VCALENDAR
