BEGIN:VCALENDAR
VERSION:2.0
PRODID:-//213.186.33.4//NONSGML kigkonsult.se iCalcreator 2.20//
CALSCALE:GREGORIAN
METHOD:PUBLISH
X-WR-TIMEZONE:Europe/Paris
BEGIN:VEVENT
UID:event1010@GUMS Paris
DTSTAMP:20260421T070506Z
CATEGORIES:Ski de Rando
DESCRIPTION:Car-couchettes Val de Rhèmes\nCatégorie: Ski de Rando\nLien: ht
 tps://www.gumsparis.asso.fr/index.php?option=com_jem&view=event&id=1010:ca
 r-couchette-260\n
DTSTART;VALUE=DATE:20250328
DTEND;VALUE=DATE:20250331
SUMMARY:Car-couchettes Val de Rhèmes
URL:https://www.gumsparis.asso.fr/index.php?option=com_jem&view=event&id=10
 10:car-couchette-260
END:VEVENT
END:VCALENDAR
