BEGIN:VCALENDAR
VERSION:2.0
PRODID:-//213.186.33.4//NONSGML kigkonsult.se iCalcreator 2.20//
CALSCALE:GREGORIAN
METHOD:PUBLISH
X-WR-TIMEZONE:Europe/Paris
BEGIN:VEVENT
UID:event1018@GUMS Paris
DTSTAMP:20260421T071607Z
CATEGORIES:Sorties randonnée
DESCRIPTION:Fosses-Bellefontaine en Pays de France\nCatégorie: Sorties rand
 onnée\nLien: https://www.gumsparis.asso.fr/index.php?option=com_jem&view=e
 vent&id=1018:fosses-bellefontaine-en-pays-de-france-13-kms\n
DTSTART;TZID=Europe/Paris:20250309T101500
DTEND;TZID=Europe/Paris:20250309T101500
SUMMARY:Fosses-Bellefontaine en Pays de France
URL:https://www.gumsparis.asso.fr/index.php?option=com_jem&view=event&id=10
 18:fosses-bellefontaine-en-pays-de-france-13-kms
END:VEVENT
END:VCALENDAR
