BEGIN:VCALENDAR
VERSION:2.0
PRODID:-//213.186.33.4//NONSGML kigkonsult.se iCalcreator 2.20//
CALSCALE:GREGORIAN
METHOD:PUBLISH
X-WR-TIMEZONE:Europe/Paris
BEGIN:VEVENT
UID:event1019@GUMS Paris
DTSTAMP:20260421T082801Z
CATEGORIES:Sorties Falaises
DESCRIPTION:Grandes voies à Presles sur 4 jours\nCatégorie: Sorties Falaise
 s\nLien: https://www.gumsparis.asso.fr/index.php?option=com_jem&view=event
 &id=1019:grandes-voies-a-presles-4-jours\n
DTSTART;VALUE=DATE:20250508
DTEND;VALUE=DATE:20250512
SUMMARY:Grandes voies à Presles sur 4 jours
URL:https://www.gumsparis.asso.fr/index.php?option=com_jem&view=event&id=10
 19:grandes-voies-a-presles-4-jours
END:VEVENT
END:VCALENDAR
