BEGIN:VCALENDAR
VERSION:2.0
PRODID:-//213.186.33.4//NONSGML kigkonsult.se iCalcreator 2.20//
CALSCALE:GREGORIAN
METHOD:PUBLISH
X-WR-TIMEZONE:Europe/Paris
BEGIN:VEVENT
UID:event1020@GUMS Paris
DTSTAMP:20260421T071448Z
CATEGORIES:Sorties Falaises
DESCRIPTION:Grandes voies Calanques sur 3 jours\nCatégorie: Sorties Falaise
 s\nLien: https://www.gumsparis.asso.fr/index.php?option=com_jem&view=event
 &id=1020:grandes-voies-calanques-sur-3-jours\n
DTSTART;VALUE=DATE:20250329
DTEND;VALUE=DATE:20250401
SUMMARY:Grandes voies Calanques sur 3 jours
URL:https://www.gumsparis.asso.fr/index.php?option=com_jem&view=event&id=10
 20:grandes-voies-calanques-sur-3-jours
END:VEVENT
END:VCALENDAR
