BEGIN:VCALENDAR
VERSION:2.0
PRODID:-//213.186.33.4//NONSGML kigkonsult.se iCalcreator 2.20//
CALSCALE:GREGORIAN
METHOD:PUBLISH
X-WR-TIMEZONE:Europe/Paris
BEGIN:VEVENT
UID:event1021@GUMS Paris
DTSTAMP:20260421T082404Z
CATEGORIES:Ski de Rando\, Sorties Falaises\, SAE
DESCRIPTION:Journée Manip. de cordes\nCatégorie: Ski de Rando\, Sorties Fal
 aises\, SAE\nLien: https://www.gumsparis.asso.fr/index.php?option=com_jem&
 view=event&id=1021:journee-manip-de-cordes\n
DTSTART;TZID=Europe/Paris:20250405T100000
DTEND;TZID=Europe/Paris:20250405T160000
LOCATION:Viaduc des Fauvettes\,91940 Gometz-le-Châtel
SUMMARY:Journée Manip. de cordes
URL:https://www.gumsparis.asso.fr/index.php?option=com_jem&view=event&id=10
 21:journee-manip-de-cordes
END:VEVENT
END:VCALENDAR
