BEGIN:VCALENDAR
VERSION:2.0
PRODID:-//213.186.33.4//NONSGML kigkonsult.se iCalcreator 2.20//
CALSCALE:GREGORIAN
METHOD:PUBLISH
X-WR-TIMEZONE:Europe/Paris
BEGIN:VEVENT
UID:event1025@GUMS Paris
DTSTAMP:20260421T082440Z
CATEGORIES:Sorties randonnée
DESCRIPTION:DE BOISSY SAINT LEGER à BRUNOY\nCatégorie: Sorties randonnée\nL
 ien: https://www.gumsparis.asso.fr/index.php?option=com_jem&view=event&id=
 1025:de-boissy-saint-leger-a-brunoy\n
DTSTART;TZID=Europe/Paris:20250511T095000
DTEND;TZID=Europe/Paris:20250511T095000
SUMMARY:DE BOISSY SAINT LEGER à BRUNOY
URL:https://www.gumsparis.asso.fr/index.php?option=com_jem&view=event&id=10
 25:de-boissy-saint-leger-a-brunoy
END:VEVENT
END:VCALENDAR
