BEGIN:VCALENDAR
VERSION:2.0
PRODID:-//213.186.33.4//NONSGML kigkonsult.se iCalcreator 2.20//
CALSCALE:GREGORIAN
METHOD:PUBLISH
X-WR-TIMEZONE:Europe/Paris
BEGIN:VEVENT
UID:event1029@GUMS Paris
DTSTAMP:20260423T083220Z
CATEGORIES:Ski de Rando
DESCRIPTION:Commission SKI de Rando/Montagne\nCatégorie: Ski de Rando\nLien
 : https://www.gumsparis.asso.fr/index.php?option=com_jem&view=event&id=102
 9:commission-ski-de-rando-montagne\n
DTSTART;TZID=Europe/Paris:20250701T190000
DTEND;TZID=Europe/Paris:20250701T203000
LOCATION:Perma\,53 rue du Moulin Vert\,75014 Paris
SUMMARY:Commission SKI de Rando/Montagne
URL:https://www.gumsparis.asso.fr/index.php?option=com_jem&view=event&id=10
 29:commission-ski-de-rando-montagne
END:VEVENT
END:VCALENDAR
