BEGIN:VCALENDAR
VERSION:2.0
PRODID:-//213.186.33.4//NONSGML kigkonsult.se iCalcreator 2.20//
CALSCALE:GREGORIAN
METHOD:PUBLISH
X-WR-TIMEZONE:Europe/Paris
BEGIN:VEVENT
UID:event1033@GUMS Paris
DTSTAMP:20260421T082304Z
CATEGORIES:Sorties Falaises
DESCRIPTION:Escalade à Mallos de Riglos\nCatégorie: Sorties Falaises\nLien:
  https://www.gumsparis.asso.fr/index.php?option=com_jem&view=event&id=1033
 :escalade-a-mallos-de-riglos\n
DTSTART;VALUE=DATE:20251108
DTEND;VALUE=DATE:20251112
SUMMARY:Escalade à Mallos de Riglos
URL:https://www.gumsparis.asso.fr/index.php?option=com_jem&view=event&id=10
 33:escalade-a-mallos-de-riglos
END:VEVENT
END:VCALENDAR
