BEGIN:VCALENDAR
VERSION:2.0
PRODID:-//213.186.33.4//NONSGML kigkonsult.se iCalcreator 2.20//
CALSCALE:GREGORIAN
METHOD:PUBLISH
X-WR-TIMEZONE:Europe/Paris
BEGIN:VEVENT
UID:event1037@GUMS Paris
DTSTAMP:20260421T085229Z
CATEGORIES:Sorties Falaises
DESCRIPTION:Weekend Normandie - Falaises de Connelles et des Andelys\nCatég
 orie: Sorties Falaises\nLien: https://www.gumsparis.asso.fr/index.php?opti
 on=com_jem&view=event&id=1037:weekend-normandie-falaises-de-connelles-et-d
 es-andelys-13-14-septembre\n
DTSTART;VALUE=DATE:20250913
DTEND;VALUE=DATE:20250915
SUMMARY:Weekend Normandie - Falaises de Connelles et des Andelys
URL:https://www.gumsparis.asso.fr/index.php?option=com_jem&view=event&id=10
 37:weekend-normandie-falaises-de-connelles-et-des-andelys-13-14-septembre
END:VEVENT
END:VCALENDAR
