BEGIN:VCALENDAR
VERSION:2.0
PRODID:-//213.186.33.4//NONSGML kigkonsult.se iCalcreator 2.20//
CALSCALE:GREGORIAN
METHOD:PUBLISH
X-WR-TIMEZONE:Europe/Paris
BEGIN:VEVENT
UID:event1038@GUMS Paris
DTSTAMP:20260421T082529Z
CATEGORIES:Sorties Falaises
DESCRIPTION:Weekend Bourgogne - Hauteroche\nCatégorie: Sorties Falaises\nLi
 en: https://www.gumsparis.asso.fr/index.php?option=com_jem&view=event&id=1
 038:weekend-bourgogne-hauteroche\n
DTSTART;VALUE=DATE:20251011
DTEND;VALUE=DATE:20251013
SUMMARY:Weekend Bourgogne - Hauteroche
URL:https://www.gumsparis.asso.fr/index.php?option=com_jem&view=event&id=10
 38:weekend-bourgogne-hauteroche
END:VEVENT
END:VCALENDAR
