BEGIN:VCALENDAR
VERSION:2.0
PRODID:-//213.186.33.4//NONSGML kigkonsult.se iCalcreator 2.20//
CALSCALE:GREGORIAN
METHOD:PUBLISH
X-WR-TIMEZONE:Europe/Paris
BEGIN:VEVENT
UID:event1039@GUMS Paris
DTSTAMP:20260421T093439Z
CATEGORIES:Sorties Falaises
DESCRIPTION:Semaine aux Dentelles de Montmirail\nCatégorie: Sorties Falaise
 s\nLien: https://www.gumsparis.asso.fr/index.php?option=com_jem&view=event
 &id=1039:semaine-aux-dentelles-de-montmirail\n
DTSTART;VALUE=DATE:20251018
DTEND;VALUE=DATE:20251026
SUMMARY:Semaine aux Dentelles de Montmirail
URL:https://www.gumsparis.asso.fr/index.php?option=com_jem&view=event&id=10
 39:semaine-aux-dentelles-de-montmirail
END:VEVENT
END:VCALENDAR
