BEGIN:VCALENDAR
VERSION:2.0
PRODID:-//213.186.33.4//NONSGML kigkonsult.se iCalcreator 2.20//
CALSCALE:GREGORIAN
METHOD:PUBLISH
X-WR-TIMEZONE:Europe/Paris
BEGIN:VEVENT
UID:event1041@GUMS Paris
DTSTAMP:20260421T083754Z
CATEGORIES:Stage d'initiation
DESCRIPTION:Stage carto 1\nCatégorie: Stage d'initiation\nLien: https://www
 .gumsparis.asso.fr/index.php?option=com_jem&view=event&id=1041:stage-carto
 -1\n
DTSTART;VALUE=DATE:20251113
DTEND;VALUE=DATE:20251116
LOCATION:Parking Bouquet de la Reine Amélie\,Route de la Reine Amélie\,7730
 0 Fontainebleau
SUMMARY:Stage carto 1
URL:https://www.gumsparis.asso.fr/index.php?option=com_jem&view=event&id=10
 41:stage-carto-1
END:VEVENT
END:VCALENDAR
