BEGIN:VCALENDAR
VERSION:2.0
PRODID:-//213.186.33.4//NONSGML kigkonsult.se iCalcreator 2.20//
CALSCALE:GREGORIAN
METHOD:PUBLISH
X-WR-TIMEZONE:Europe/Paris
BEGIN:VEVENT
UID:event1043@GUMS Paris
DTSTAMP:20260421T083602Z
CATEGORIES:Sorties randonnée
DESCRIPTION:Les coteaux de la Juine au départ de Lardy\nCatégorie: Sorties 
 randonnée\nLien: https://www.gumsparis.asso.fr/index.php?option=com_jem&vi
 ew=event&id=1043:les-coteaux-de-la-juine-au-depart-de-lardy\n
DTSTART;TZID=Europe/Paris:20251012T100000
DTEND;TZID=Europe/Paris:20251012T100000
SUMMARY:Les coteaux de la Juine au départ de Lardy
URL:https://www.gumsparis.asso.fr/index.php?option=com_jem&view=event&id=10
 43:les-coteaux-de-la-juine-au-depart-de-lardy
END:VEVENT
END:VCALENDAR
