BEGIN:VCALENDAR
VERSION:2.0
PRODID:-//213.186.33.4//NONSGML kigkonsult.se iCalcreator 2.20//
CALSCALE:GREGORIAN
METHOD:PUBLISH
X-WR-TIMEZONE:Europe/Paris
BEGIN:VEVENT
UID:event1054@GUMS Paris
DTSTAMP:20260421T082803Z
CATEGORIES:Sorties Falaises
DESCRIPTION:Semaine et week-end à Buis les Baronnies\nCatégorie: Sorties Fa
 laises\nLien: https://www.gumsparis.asso.fr/index.php?option=com_jem&view=
 event&id=1054:semaine-et-week-end-a-buis-les-baronnies\n
DTSTART;VALUE=DATE:20251101
DTEND;VALUE=DATE:20251110
LOCATION:Buis les Baronnies
SUMMARY:Semaine et week-end à Buis les Baronnies
URL:https://www.gumsparis.asso.fr/index.php?option=com_jem&view=event&id=10
 54:semaine-et-week-end-a-buis-les-baronnies
END:VEVENT
END:VCALENDAR
