BEGIN:VCALENDAR
VERSION:2.0
PRODID:-//213.186.33.4//NONSGML kigkonsult.se iCalcreator 2.20//
CALSCALE:GREGORIAN
METHOD:PUBLISH
X-WR-TIMEZONE:Europe/Paris
BEGIN:VEVENT
UID:event116@GUMS Paris
DTSTAMP:20260421T092108Z
CATEGORIES:Vie du Club
DESCRIPTION:Hoggarlette des rois\nCatégorie: Vie du Club\nLien: https://www
 .gumsparis.asso.fr/index.php?option=com_jem&view=event&id=116:hoggarlette-
 des-rois\n
DTSTART;TZID=Europe/Paris:20110120T193000
DTEND;TZID=Europe/Paris:20110120T193000
SUMMARY:Hoggarlette des rois
URL:https://www.gumsparis.asso.fr/index.php?option=com_jem&view=event&id=11
 6:hoggarlette-des-rois
END:VEVENT
END:VCALENDAR
