BEGIN:VCALENDAR
VERSION:2.0
PRODID:-//213.186.33.4//NONSGML kigkonsult.se iCalcreator 2.20//
CALSCALE:GREGORIAN
METHOD:PUBLISH
X-WR-TIMEZONE:Europe/Paris
BEGIN:VEVENT
UID:event118@GUMS Paris
DTSTAMP:20260421T094938Z
CATEGORIES:Sorties randonnée
DESCRIPTION:Auvers sur Oise\, les paysages de Van GOGH et l’après-midi des 
 3 cimetières\nCatégorie: Sorties randonnée\nLien: https://www.gumsparis.as
 so.fr/index.php?option=com_jem&view=event&id=118:auvers-sur-oise-les-paysa
 ges-de-van-gogh-et-lapres-midi-des-3-cimetieres\n
DTSTART;VALUE=DATE:20110313
DTEND;VALUE=DATE:20110314
SUMMARY:Auvers sur Oise\, les paysages de Van GOGH et l’après-midi des 3 ci
 metières
URL:https://www.gumsparis.asso.fr/index.php?option=com_jem&view=event&id=11
 8:auvers-sur-oise-les-paysages-de-van-gogh-et-lapres-midi-des-3-cimetieres
END:VEVENT
END:VCALENDAR
