BEGIN:VCALENDAR
VERSION:2.0
PRODID:-//213.186.33.4//NONSGML kigkonsult.se iCalcreator 2.20//
CALSCALE:GREGORIAN
METHOD:PUBLISH
X-WR-TIMEZONE:Europe/Paris
BEGIN:VEVENT
UID:event119@GUMS Paris
DTSTAMP:20260421T092358Z
CATEGORIES:Sorties randonnée
DESCRIPTION:Davron – Crespières – Orgeval - Davron\nCatégorie: Sorties rand
 onnée\nLien: https://www.gumsparis.asso.fr/index.php?option=com_jem&view=e
 vent&id=119:davron-crespieres-orgeval-davron\n
DTSTART;VALUE=DATE:20110403
DTEND;VALUE=DATE:20110404
SUMMARY:Davron – Crespières – Orgeval - Davron
URL:https://www.gumsparis.asso.fr/index.php?option=com_jem&view=event&id=11
 9:davron-crespieres-orgeval-davron
END:VEVENT
END:VCALENDAR
