BEGIN:VCALENDAR
VERSION:2.0
PRODID:-//213.186.33.4//NONSGML kigkonsult.se iCalcreator 2.20//
CALSCALE:GREGORIAN
METHOD:PUBLISH
X-WR-TIMEZONE:Europe/Paris
BEGIN:VEVENT
UID:event120@GUMS Paris
DTSTAMP:20260421T092311Z
CATEGORIES:Sorties Falaises
DESCRIPTION:Rassemblement à Montserrat\nCatégorie: Sorties Falaises\nLien: 
 https://www.gumsparis.asso.fr/index.php?option=com_jem&view=event&id=120:r
 assemblement-a-montserrat\n
DTSTART;VALUE=DATE:20110409
DTEND;VALUE=DATE:20110418
SUMMARY:Rassemblement à Montserrat
URL:https://www.gumsparis.asso.fr/index.php?option=com_jem&view=event&id=12
 0:rassemblement-a-montserrat
END:VEVENT
END:VCALENDAR
