BEGIN:VCALENDAR
VERSION:2.0
PRODID:-//213.186.33.4//NONSGML kigkonsult.se iCalcreator 2.20//
CALSCALE:GREGORIAN
METHOD:PUBLISH
X-WR-TIMEZONE:Europe/Paris
BEGIN:VEVENT
UID:event121@GUMS Paris
DTSTAMP:20260421T093006Z
CATEGORIES:Sorties Falaises
DESCRIPTION:Rassemblement Vingrau-Tautavel\nCatégorie: Sorties Falaises\nLi
 en: https://www.gumsparis.asso.fr/index.php?option=com_jem&view=event&id=1
 21:rassemblement-vingrau-tautavel\n
DTSTART;VALUE=DATE:20110416
DTEND;VALUE=DATE:20110426
SUMMARY:Rassemblement Vingrau-Tautavel
URL:https://www.gumsparis.asso.fr/index.php?option=com_jem&view=event&id=12
 1:rassemblement-vingrau-tautavel
END:VEVENT
END:VCALENDAR
