BEGIN:VCALENDAR
VERSION:2.0
PRODID:-//213.186.33.4//NONSGML kigkonsult.se iCalcreator 2.20//
CALSCALE:GREGORIAN
METHOD:PUBLISH
X-WR-TIMEZONE:Europe/Paris
BEGIN:VEVENT
UID:event123@GUMS Paris
DTSTAMP:20260421T094701Z
CATEGORIES:Sorties randonnée
DESCRIPTION:Séjour à Bellefontaine (Jura)\nCatégorie: Sorties randonnée\nLi
 en: https://www.gumsparis.asso.fr/index.php?option=com_jem&view=event&id=1
 23:sejour-a-bellefontaine-jura\n
DTSTART;VALUE=DATE:20110528
DTEND;VALUE=DATE:20110603
SUMMARY:Séjour à Bellefontaine (Jura)
URL:https://www.gumsparis.asso.fr/index.php?option=com_jem&view=event&id=12
 3:sejour-a-bellefontaine-jura
END:VEVENT
END:VCALENDAR
