BEGIN:VCALENDAR
VERSION:2.0
PRODID:-//213.186.33.4//NONSGML kigkonsult.se iCalcreator 2.20//
CALSCALE:GREGORIAN
METHOD:PUBLISH
X-WR-TIMEZONE:Europe/Paris
BEGIN:VEVENT
UID:event125@GUMS Paris
DTSTAMP:20260421T094231Z
CATEGORIES:Sorties Falaises
DESCRIPTION:Car-couchettes Aravis - Col de la Colombière\nCatégorie: Sortie
 s Falaises\nLien: https://www.gumsparis.asso.fr/index.php?option=com_jem&v
 iew=event&id=125:aravis-col-de-la-colombiere\n
DTSTART;VALUE=DATE:20111015
DTEND;VALUE=DATE:20111017
SUMMARY:Car-couchettes Aravis - Col de la Colombière
URL:https://www.gumsparis.asso.fr/index.php?option=com_jem&view=event&id=12
 5:aravis-col-de-la-colombiere
END:VEVENT
END:VCALENDAR
