BEGIN:VCALENDAR
VERSION:2.0
PRODID:-//213.186.33.4//NONSGML kigkonsult.se iCalcreator 2.20//
CALSCALE:GREGORIAN
METHOD:PUBLISH
X-WR-TIMEZONE:Europe/Paris
BEGIN:VEVENT
UID:event126@GUMS Paris
DTSTAMP:20260421T094153Z
CATEGORIES:Sorties Falaises
DESCRIPTION:Car-couchettes CALAMES (escalade\, rando...)\nCatégorie: Sortie
 s Falaises\nLien: https://www.gumsparis.asso.fr/index.php?option=com_jem&v
 iew=event&id=126:destination-non-definie\n
DTSTART;VALUE=DATE:20111111
DTEND;VALUE=DATE:20111114
SUMMARY:Car-couchettes CALAMES (escalade\, rando...)
URL:https://www.gumsparis.asso.fr/index.php?option=com_jem&view=event&id=12
 6:destination-non-definie
END:VEVENT
END:VCALENDAR
