BEGIN:VCALENDAR
VERSION:2.0
PRODID:-//213.186.33.4//NONSGML kigkonsult.se iCalcreator 2.20//
CALSCALE:GREGORIAN
METHOD:PUBLISH
X-WR-TIMEZONE:Europe/Paris
BEGIN:VEVENT
UID:event127@GUMS Paris
DTSTAMP:20260421T092153Z
CATEGORIES:Sorties Falaises
DESCRIPTION:Car-couchettes Chamonix (ANNULE)\nCatégorie: Sorties Falaises\n
 Lien: https://www.gumsparis.asso.fr/index.php?option=com_jem&view=event&id
 =127:car-couchettes-chamonix-escalade\n
DTSTART;VALUE=DATE:20110507
DTEND;VALUE=DATE:20110509
SUMMARY:Car-couchettes Chamonix (ANNULE)
URL:https://www.gumsparis.asso.fr/index.php?option=com_jem&view=event&id=12
 7:car-couchettes-chamonix-escalade
END:VEVENT
END:VCALENDAR
