BEGIN:VCALENDAR
VERSION:2.0
PRODID:-//213.186.33.4//NONSGML kigkonsult.se iCalcreator 2.20//
CALSCALE:GREGORIAN
METHOD:PUBLISH
X-WR-TIMEZONE:Europe/Paris
BEGIN:VEVENT
UID:event128@GUMS Paris
DTSTAMP:20260421T094611Z
CATEGORIES:Sorties Falaises
DESCRIPTION:Manip de corde au Viaduc des Fauvettes\nCatégorie: Sorties Fala
 ises\nLien: https://www.gumsparis.asso.fr/index.php?option=com_jem&view=ev
 ent&id=128:manip-de-corde-au-viaduc-de-bures-sur-yvette\n
DTSTART;VALUE=DATE:20131005
DTEND;VALUE=DATE:20131006
SUMMARY:Manip de corde au Viaduc des Fauvettes
URL:https://www.gumsparis.asso.fr/index.php?option=com_jem&view=event&id=12
 8:manip-de-corde-au-viaduc-de-bures-sur-yvette
END:VEVENT
END:VCALENDAR
