BEGIN:VCALENDAR
VERSION:2.0
PRODID:-//213.186.33.4//NONSGML kigkonsult.se iCalcreator 2.20//
CALSCALE:GREGORIAN
METHOD:PUBLISH
X-WR-TIMEZONE:Europe/Paris
BEGIN:VEVENT
UID:event130@GUMS Paris
DTSTAMP:20260421T092702Z
CATEGORIES:Vie du Club
DESCRIPTION:soirée nettoyage de la perma\nCatégorie: Vie du Club\nLien: htt
 ps://www.gumsparis.asso.fr/index.php?option=com_jem&view=event&id=130:soir
 ee-nettoyage-de-la-perma\n
DTSTART;TZID=Europe/Paris:20110623T190000
DTEND;TZID=Europe/Paris:20110623T223000
LOCATION:Forêt de Fontainebleau\,77300 Fontainebleau
SUMMARY:soirée nettoyage de la perma
URL:https://www.gumsparis.asso.fr/index.php?option=com_jem&view=event&id=13
 0:soiree-nettoyage-de-la-perma
END:VEVENT
END:VCALENDAR
