BEGIN:VCALENDAR
VERSION:2.0
PRODID:-//213.186.33.4//NONSGML kigkonsult.se iCalcreator 2.20//
CALSCALE:GREGORIAN
METHOD:PUBLISH
X-WR-TIMEZONE:Europe/Paris
BEGIN:VEVENT
UID:event137@GUMS Paris
DTSTAMP:20260421T094045Z
CATEGORIES:Sorties randonnée
DESCRIPTION:Valmondois\nCatégorie: Sorties randonnée\nLien: https://www.gum
 sparis.asso.fr/index.php?option=com_jem&view=event&id=137:valmondois\n
DTSTART;VALUE=DATE:20110918
DTEND;VALUE=DATE:20110919
SUMMARY:Valmondois
URL:https://www.gumsparis.asso.fr/index.php?option=com_jem&view=event&id=13
 7:valmondois
END:VEVENT
END:VCALENDAR
