BEGIN:VCALENDAR
VERSION:2.0
PRODID:-//213.186.33.4//NONSGML kigkonsult.se iCalcreator 2.20//
CALSCALE:GREGORIAN
METHOD:PUBLISH
X-WR-TIMEZONE:Europe/Paris
BEGIN:VEVENT
UID:event138@GUMS Paris
DTSTAMP:20260421T094542Z
CATEGORIES:Sorties Falaises
DESCRIPTION:Rassemblement Montagne Sainte Victoire\nCatégorie: Sorties Fala
 ises\nLien: https://www.gumsparis.asso.fr/index.php?option=com_jem&view=ev
 ent&id=138:rassemblement-montagne-sainte-victoire\n
DTSTART;VALUE=DATE:20111025
DTEND;VALUE=DATE:20111103
SUMMARY:Rassemblement Montagne Sainte Victoire
URL:https://www.gumsparis.asso.fr/index.php?option=com_jem&view=event&id=13
 8:rassemblement-montagne-sainte-victoire
END:VEVENT
END:VCALENDAR
