BEGIN:VCALENDAR
VERSION:2.0
PRODID:-//213.186.33.4//NONSGML kigkonsult.se iCalcreator 2.20//
CALSCALE:GREGORIAN
METHOD:PUBLISH
X-WR-TIMEZONE:Europe/Paris
BEGIN:VEVENT
UID:event139@GUMS Paris
DTSTAMP:20260421T103749Z
CATEGORIES:Vie du Club
DESCRIPTION:Assemblée Générale\nCatégorie: Vie du Club\nLien: https://www.g
 umsparis.asso.fr/index.php?option=com_jem&view=event&id=139:assemblee-gene
 rale\n
DTSTART;TZID=Europe/Paris:20111021T190000
DTEND;TZID=Europe/Paris:20111021T220000
LOCATION:Maison des Associations du XIVe\,76 rue Daguerre\,75014 Paris
SUMMARY:Assemblée Générale
URL:https://www.gumsparis.asso.fr/index.php?option=com_jem&view=event&id=13
 9:assemblee-generale
END:VEVENT
END:VCALENDAR
