BEGIN:VCALENDAR
VERSION:2.0
PRODID:-//213.186.33.4//NONSGML kigkonsult.se iCalcreator 2.20//
CALSCALE:GREGORIAN
METHOD:PUBLISH
X-WR-TIMEZONE:Europe/Paris
BEGIN:VEVENT
UID:event140@GUMS Paris
DTSTAMP:20260421T094240Z
CATEGORIES:Sorties randonnée
DESCRIPTION:Séjour à Bédoin (Vaucluse)\nCatégorie: Sorties randonnée\nLien:
  https://www.gumsparis.asso.fr/index.php?option=com_jem&view=event&id=140:
 sejour-a-bedoin-vaucluse\n
DTSTART;VALUE=DATE:20111017
DTEND;VALUE=DATE:20111023
SUMMARY:Séjour à Bédoin (Vaucluse)
URL:https://www.gumsparis.asso.fr/index.php?option=com_jem&view=event&id=14
 0:sejour-a-bedoin-vaucluse
END:VEVENT
END:VCALENDAR
