BEGIN:VCALENDAR
VERSION:2.0
PRODID:-//213.186.33.4//NONSGML kigkonsult.se iCalcreator 2.20//
CALSCALE:GREGORIAN
METHOD:PUBLISH
X-WR-TIMEZONE:Europe/Paris
BEGIN:VEVENT
UID:event155@GUMS Paris
DTSTAMP:20260421T094154Z
CATEGORIES:Sorties randonnée
DESCRIPTION:Forêt de Fontainebleau\nCatégorie: Sorties randonnée\nLien: htt
 ps://www.gumsparis.asso.fr/index.php?option=com_jem&view=event&id=155:fore
 t-de-fontainebleau\n
DTSTART;TZID=Europe/Paris:20111120T100000
DTEND;TZID=Europe/Paris:20111120T100000
SUMMARY:Forêt de Fontainebleau
URL:https://www.gumsparis.asso.fr/index.php?option=com_jem&view=event&id=15
 5:foret-de-fontainebleau
END:VEVENT
END:VCALENDAR
