BEGIN:VCALENDAR
VERSION:2.0
PRODID:-//213.186.33.4//NONSGML kigkonsult.se iCalcreator 2.20//
CALSCALE:GREGORIAN
METHOD:PUBLISH
X-WR-TIMEZONE:Europe/Paris
BEGIN:VEVENT
UID:event159@GUMS Paris
DTSTAMP:20260421T104144Z
CATEGORIES:Ski de Rando
DESCRIPTION:Entraînement à la recherche d'ARVA\nCatégorie: Ski de Rando\nLi
 en: https://www.gumsparis.asso.fr/index.php?option=com_jem&view=event&id=1
 59:entrainement-a-la-recherche-darva\n
DTSTART;TZID=Europe/Paris:20111126T100000
DTEND;TZID=Europe/Paris:20111126T100000
SUMMARY:Entraînement à la recherche d'ARVA
URL:https://www.gumsparis.asso.fr/index.php?option=com_jem&view=event&id=15
 9:entrainement-a-la-recherche-darva
END:VEVENT
END:VCALENDAR
