BEGIN:VCALENDAR
VERSION:2.0
PRODID:-//213.186.33.4//NONSGML kigkonsult.se iCalcreator 2.20//
CALSCALE:GREGORIAN
METHOD:PUBLISH
X-WR-TIMEZONE:Europe/Paris
BEGIN:VEVENT
UID:event161@GUMS Paris
DTSTAMP:20260421T094045Z
CATEGORIES:Vie du Club
DESCRIPTION:Soirée « Changer d'Approche »\nCatégorie: Vie du Club\nLien: ht
 tps://www.gumsparis.asso.fr/index.php?option=com_jem&view=event&id=161:soi
 ree-de-presentation-de-mountain-wilderness\n
DTSTART;TZID=Europe/Paris:20111103T193000
DTEND;TZID=Europe/Paris:20111103T193000
LOCATION:Forêt de Fontainebleau\,77300 Fontainebleau
SUMMARY:Soirée « Changer d'Approche »
URL:https://www.gumsparis.asso.fr/index.php?option=com_jem&view=event&id=16
 1:soiree-de-presentation-de-mountain-wilderness
END:VEVENT
END:VCALENDAR
