BEGIN:VCALENDAR
VERSION:2.0
PRODID:-//213.186.33.4//NONSGML kigkonsult.se iCalcreator 2.20//
CALSCALE:GREGORIAN
METHOD:PUBLISH
X-WR-TIMEZONE:Europe/Paris
BEGIN:VEVENT
UID:event166@GUMS Paris
DTSTAMP:20260421T094231Z
CATEGORIES:Vie du Club
DESCRIPTION:Soirée 'Mont-Blanc' à la perma\nCatégorie: Vie du Club\nLien: h
 ttps://www.gumsparis.asso.fr/index.php?option=com_jem&view=event&id=166:so
 iree-mont-blanc-a-la-perma\n
DTSTART;TZID=Europe/Paris:20111013T200000
DTEND;TZID=Europe/Paris:20111013T200000
LOCATION:Forêt de Fontainebleau\,77300 Fontainebleau
SUMMARY:Soirée 'Mont-Blanc' à la perma
URL:https://www.gumsparis.asso.fr/index.php?option=com_jem&view=event&id=16
 6:soiree-mont-blanc-a-la-perma
END:VEVENT
END:VCALENDAR
