BEGIN:VCALENDAR
VERSION:2.0
PRODID:-//213.186.33.4//NONSGML kigkonsult.se iCalcreator 2.20//
CALSCALE:GREGORIAN
METHOD:PUBLISH
X-WR-TIMEZONE:Europe/Paris
BEGIN:VEVENT
UID:event175@GUMS Paris
DTSTAMP:20260421T093820Z
CATEGORIES:Sorties Falaises
DESCRIPTION:Rassemblement au Thaurac\nCatégorie: Sorties Falaises\nLien: ht
 tps://www.gumsparis.asso.fr/index.php?option=com_jem&view=event&id=175:ras
 semblement-de-fin-dannee\n
DTSTART;VALUE=DATE:20111226
DTEND;VALUE=DATE:20120103
LOCATION:Chateau de Villarel\,Villarel\,34190 Brissac
SUMMARY:Rassemblement au Thaurac
URL:https://www.gumsparis.asso.fr/index.php?option=com_jem&view=event&id=17
 5:rassemblement-de-fin-dannee
END:VEVENT
END:VCALENDAR
