BEGIN:VCALENDAR
VERSION:2.0
PRODID:-//213.186.33.4//NONSGML kigkonsult.se iCalcreator 2.20//
CALSCALE:GREGORIAN
METHOD:PUBLISH
X-WR-TIMEZONE:Europe/Paris
BEGIN:VEVENT
UID:event176@GUMS Paris
DTSTAMP:20260421T094834Z
CATEGORIES:Ski de Rando
DESCRIPTION:Soirée nivologie 'Conditions de neige et risque d'avalanche'  (
 pratiquants tous niveaux)\nCatégorie: Ski de Rando\nLien: https://www.gums
 paris.asso.fr/index.php?option=com_jem&view=event&id=176:soiree-nivologie-
 pratiquants-tous-niveaux\n
DTSTART;TZID=Europe/Paris:20111208T200000
DTEND;TZID=Europe/Paris:20111208T220000
LOCATION:Forêt de Fontainebleau\,77300 Fontainebleau
SUMMARY:Soirée nivologie 'Conditions de neige et risque d'avalanche'  (prat
 iquants tous niveaux)
URL:https://www.gumsparis.asso.fr/index.php?option=com_jem&view=event&id=17
 6:soiree-nivologie-pratiquants-tous-niveaux
END:VEVENT
END:VCALENDAR
