BEGIN:VCALENDAR
VERSION:2.0
PRODID:-//213.186.33.4//NONSGML kigkonsult.se iCalcreator 2.20//
CALSCALE:GREGORIAN
METHOD:PUBLISH
X-WR-TIMEZONE:Europe/Paris
BEGIN:VEVENT
UID:event177@GUMS Paris
DTSTAMP:20260421T094701Z
CATEGORIES:Ski de Rando
DESCRIPTION:Soirée nivologie 'Gestion du risque'    (pratiquants expériment
 és)\nCatégorie: Ski de Rando\nLien: https://www.gumsparis.asso.fr/index.ph
 p?option=com_jem&view=event&id=177:soiree-nivologie-qgestion-du-risqueq-pr
 atiquants-experimentes\n
DTSTART;TZID=Europe/Paris:20111215T200000
DTEND;TZID=Europe/Paris:20111215T220000
LOCATION:Forêt de Fontainebleau\,77300 Fontainebleau
SUMMARY:Soirée nivologie 'Gestion du risque'    (pratiquants expérimentés)
URL:https://www.gumsparis.asso.fr/index.php?option=com_jem&view=event&id=17
 7:soiree-nivologie-qgestion-du-risqueq-pratiquants-experimentes
END:VEVENT
END:VCALENDAR
