BEGIN:VCALENDAR
VERSION:2.0
PRODID:-//213.186.33.4//NONSGML kigkonsult.se iCalcreator 2.20//
CALSCALE:GREGORIAN
METHOD:PUBLISH
X-WR-TIMEZONE:Europe/Paris
BEGIN:VEVENT
UID:event178@GUMS Paris
DTSTAMP:20260421T093907Z
CATEGORIES:Vie du Club
DESCRIPTION:Soirée Antarctique - Volcan Erebus\, Vallées Sèches\nCatégorie:
  Vie du Club\nLien: https://www.gumsparis.asso.fr/index.php?option=com_jem
 &view=event&id=178:soiree-erebus\n
DTSTART;TZID=Europe/Paris:20111201T193000
DTEND;TZID=Europe/Paris:20111201T220000
LOCATION:Forêt de Fontainebleau\,77300 Fontainebleau
SUMMARY:Soirée Antarctique - Volcan Erebus\, Vallées Sèches
URL:https://www.gumsparis.asso.fr/index.php?option=com_jem&view=event&id=17
 8:soiree-erebus
END:VEVENT
END:VCALENDAR
