BEGIN:VCALENDAR
VERSION:2.0
PRODID:-//213.186.33.4//NONSGML kigkonsult.se iCalcreator 2.20//
CALSCALE:GREGORIAN
METHOD:PUBLISH
X-WR-TIMEZONE:Europe/Paris
BEGIN:VEVENT
UID:event179@GUMS Paris
DTSTAMP:20260421T094543Z
CATEGORIES:Ski de Rando
DESCRIPTION:Séjour peau de phoque 'FBL'\nCatégorie: Ski de Rando\nLien: htt
 ps://www.gumsparis.asso.fr/index.php?option=com_jem&view=event&id=179:sejo
 ur-peau-de-phoque-fbl\n
DTSTART;VALUE=DATE:20120218
DTEND;VALUE=DATE:20120226
SUMMARY:Séjour peau de phoque 'FBL'
URL:https://www.gumsparis.asso.fr/index.php?option=com_jem&view=event&id=17
 9:sejour-peau-de-phoque-fbl
END:VEVENT
END:VCALENDAR
