BEGIN:VCALENDAR
VERSION:2.0
PRODID:-//213.186.33.4//NONSGML kigkonsult.se iCalcreator 2.20//
CALSCALE:GREGORIAN
METHOD:PUBLISH
X-WR-TIMEZONE:Europe/Paris
BEGIN:VEVENT
UID:event180@GUMS Paris
DTSTAMP:20260421T093907Z
CATEGORIES:Sorties randonnée
DESCRIPTION:Forêt de Dourdan\nCatégorie: Sorties randonnée\nLien: https://w
 ww.gumsparis.asso.fr/index.php?option=com_jem&view=event&id=180:foret-de-d
 ourdan\n
DTSTART;TZID=Europe/Paris:20111211T100000
DTEND;TZID=Europe/Paris:20111211T100000
SUMMARY:Forêt de Dourdan
URL:https://www.gumsparis.asso.fr/index.php?option=com_jem&view=event&id=18
 0:foret-de-dourdan
END:VEVENT
END:VCALENDAR
