BEGIN:VCALENDAR
VERSION:2.0
PRODID:-//213.186.33.4//NONSGML kigkonsult.se iCalcreator 2.20//
CALSCALE:GREGORIAN
METHOD:PUBLISH
X-WR-TIMEZONE:Europe/Paris
BEGIN:VEVENT
UID:event184@GUMS Paris
DTSTAMP:20260421T094231Z
CATEGORIES:Sorties Falaises
DESCRIPTION:Sortie falaise à Angle sur l'Anglin\nCatégorie: Sorties Falaise
 s\nLien: https://www.gumsparis.asso.fr/index.php?option=com_jem&view=event
 &id=184:car-couchettes-vercors-orpierre\n
DTSTART;VALUE=DATE:20120526
DTEND;VALUE=DATE:20120529
SUMMARY:Sortie falaise à Angle sur l'Anglin
URL:https://www.gumsparis.asso.fr/index.php?option=com_jem&view=event&id=18
 4:car-couchettes-vercors-orpierre
END:VEVENT
END:VCALENDAR
