BEGIN:VCALENDAR
VERSION:2.0
PRODID:-//213.186.33.4//NONSGML kigkonsult.se iCalcreator 2.20//
CALSCALE:GREGORIAN
METHOD:PUBLISH
X-WR-TIMEZONE:Europe/Paris
BEGIN:VEVENT
UID:event185@GUMS Paris
DTSTAMP:20260421T092948Z
CATEGORIES:Sorties Falaises
DESCRIPTION:WE falaise Cormot\nCatégorie: Sorties Falaises\nLien: https://w
 ww.gumsparis.asso.fr/index.php?option=com_jem&view=event&id=185:we-en-bour
 gogne\n
DTSTART;VALUE=DATE:20130330
DTEND;VALUE=DATE:20130402
SUMMARY:WE falaise Cormot
URL:https://www.gumsparis.asso.fr/index.php?option=com_jem&view=event&id=18
 5:we-en-bourgogne
END:VEVENT
END:VCALENDAR
