BEGIN:VCALENDAR
VERSION:2.0
PRODID:-//213.186.33.4//NONSGML kigkonsult.se iCalcreator 2.20//
CALSCALE:GREGORIAN
METHOD:PUBLISH
X-WR-TIMEZONE:Europe/Paris
BEGIN:VEVENT
UID:event186@GUMS Paris
DTSTAMP:20260421T093907Z
CATEGORIES:Sorties Falaises
DESCRIPTION:Car-couchettes Chamonix\nCatégorie: Sorties Falaises\nLien: htt
 ps://www.gumsparis.asso.fr/index.php?option=com_jem&view=event&id=186:we-e
 n-train-chamonix\n
DTSTART;VALUE=DATE:20120623
DTEND;VALUE=DATE:20120625
SUMMARY:Car-couchettes Chamonix
URL:https://www.gumsparis.asso.fr/index.php?option=com_jem&view=event&id=18
 6:we-en-train-chamonix
END:VEVENT
END:VCALENDAR
