BEGIN:VCALENDAR
VERSION:2.0
PRODID:-//213.186.33.4//NONSGML kigkonsult.se iCalcreator 2.20//
CALSCALE:GREGORIAN
METHOD:PUBLISH
X-WR-TIMEZONE:Europe/Paris
BEGIN:VEVENT
UID:event188@GUMS Paris
DTSTAMP:20260421T093914Z
CATEGORIES:Sorties Falaises
DESCRIPTION:Rassemblement dans la Drôme\nCatégorie: Sorties Falaises\nLien:
  https://www.gumsparis.asso.fr/index.php?option=com_jem&view=event&id=188:
 rassemblement-de-printemps\n
DTSTART;VALUE=DATE:20120423
DTEND;VALUE=DATE:20120502
SUMMARY:Rassemblement dans la Drôme
URL:https://www.gumsparis.asso.fr/index.php?option=com_jem&view=event&id=18
 8:rassemblement-de-printemps
END:VEVENT
END:VCALENDAR
