BEGIN:VCALENDAR
VERSION:2.0
PRODID:-//213.186.33.4//NONSGML kigkonsult.se iCalcreator 2.20//
CALSCALE:GREGORIAN
METHOD:PUBLISH
X-WR-TIMEZONE:Europe/Paris
BEGIN:VEVENT
UID:event189@GUMS Paris
DTSTAMP:20260421T094527Z
CATEGORIES:Vie du Club
DESCRIPTION:Projection 'La bicicleta latina'\nCatégorie: Vie du Club\nLien:
  https://www.gumsparis.asso.fr/index.php?option=com_jem&view=event&id=189:
 projection-qla-bicicleta-latinaq\n
DTSTART;TZID=Europe/Paris:20120202T193000
DTEND;TZID=Europe/Paris:20120202T193000
LOCATION:Forêt de Fontainebleau\,77300 Fontainebleau
SUMMARY:Projection 'La bicicleta latina'
URL:https://www.gumsparis.asso.fr/index.php?option=com_jem&view=event&id=18
 9:projection-qla-bicicleta-latinaq
END:VEVENT
END:VCALENDAR
