BEGIN:VCALENDAR
VERSION:2.0
PRODID:-//213.186.33.4//NONSGML kigkonsult.se iCalcreator 2.20//
CALSCALE:GREGORIAN
METHOD:PUBLISH
X-WR-TIMEZONE:Europe/Paris
BEGIN:VEVENT
UID:event190@GUMS Paris
DTSTAMP:20260421T094701Z
CATEGORIES:Vie du Club
DESCRIPTION:Projection Tsao : films d'alpinisme\, d'escalade et de ski\nCat
 égorie: Vie du Club\nLien: https://www.gumsparis.asso.fr/index.php?option=
 com_jem&view=event&id=190:projection-tsao-6-films-dalpinisme-descalade-et-
 de-ski\n
DTSTART;TZID=Europe/Paris:20120308T193000
DTEND;TZID=Europe/Paris:20120308T193000
LOCATION:Forêt de Fontainebleau\,77300 Fontainebleau
SUMMARY:Projection Tsao : films d'alpinisme\, d'escalade et de ski
URL:https://www.gumsparis.asso.fr/index.php?option=com_jem&view=event&id=19
 0:projection-tsao-6-films-dalpinisme-descalade-et-de-ski
END:VEVENT
END:VCALENDAR
