BEGIN:VCALENDAR
VERSION:2.0
PRODID:-//213.186.33.4//NONSGML kigkonsult.se iCalcreator 2.20//
CALSCALE:GREGORIAN
METHOD:PUBLISH
X-WR-TIMEZONE:Europe/Paris
BEGIN:VEVENT
UID:event198@GUMS Paris
DTSTAMP:20260421T094338Z
CATEGORIES:Vie du Club
DESCRIPTION:Soirée diapos escalade au Maroc\nCatégorie: Vie du Club\nLien: 
 https://www.gumsparis.asso.fr/index.php?option=com_jem&view=event&id=198:s
 oiree-diapos-escalade-au-maroc\n
DTSTART;TZID=Europe/Paris:20120613T200000
DTEND;TZID=Europe/Paris:20120613T200000
LOCATION:Forêt de Fontainebleau\,77300 Fontainebleau
SUMMARY:Soirée diapos escalade au Maroc
URL:https://www.gumsparis.asso.fr/index.php?option=com_jem&view=event&id=19
 8:soiree-diapos-escalade-au-maroc
END:VEVENT
END:VCALENDAR
