BEGIN:VCALENDAR
VERSION:2.0
PRODID:-//213.186.33.4//NONSGML kigkonsult.se iCalcreator 2.20//
CALSCALE:GREGORIAN
METHOD:PUBLISH
X-WR-TIMEZONE:Europe/Paris
BEGIN:VEVENT
UID:event199@GUMS Paris
DTSTAMP:20260421T094240Z
CATEGORIES:Sorties Falaises
DESCRIPTION:Car couchettes Beaufortain\nCatégorie: Sorties Falaises\nLien: 
 https://www.gumsparis.asso.fr/index.php?option=com_jem&view=event&id=199:c
 ar-couchettes-beaufortin\n
DTSTART;VALUE=DATE:20121013
DTEND;VALUE=DATE:20121015
SUMMARY:Car couchettes Beaufortain
URL:https://www.gumsparis.asso.fr/index.php?option=com_jem&view=event&id=19
 9:car-couchettes-beaufortin
END:VEVENT
END:VCALENDAR
