BEGIN:VCALENDAR
VERSION:2.0
PRODID:-//213.186.33.4//NONSGML kigkonsult.se iCalcreator 2.20//
CALSCALE:GREGORIAN
METHOD:PUBLISH
X-WR-TIMEZONE:Europe/Paris
BEGIN:VEVENT
UID:event200@GUMS Paris
DTSTAMP:20260421T094104Z
CATEGORIES:Sorties Falaises
DESCRIPTION:Car Couchettes Caroux: Annulé\nCatégorie: Sorties Falaises\nLie
 n: https://www.gumsparis.asso.fr/index.php?option=com_jem&view=event&id=20
 0:car-couchettes-caroux\n
DTSTART;VALUE=DATE:20121117
DTEND;VALUE=DATE:20121119
SUMMARY:Car Couchettes Caroux: Annulé
URL:https://www.gumsparis.asso.fr/index.php?option=com_jem&view=event&id=20
 0:car-couchettes-caroux
END:VEVENT
END:VCALENDAR
